BEGIN:VCALENDAR
VERSION:2.0
PRODID:-//Stadtgeschichte München//DE
CALSCALE:GREGORIAN
BEGIN:VEVENT
UID:1402@stadtgeschichte-muenchen.de
SUMMARY:Nymphenburg
DESCRIPTION:&lt;p&gt;Nicht erst seit der Eingemeindung im Jahr 1899 machten Volks-, Kurund Bierg&amp;auml;rten den Stadtteil Nymphenburg zum bevorzugten&amp;nbsp; Ausflugsziel vieler M&amp;uuml;nchnerinnen und M&amp;uuml;nchner. Gro&amp;szlig;e Vergn&amp;uuml;gungsparks und Etablissements, aber auch eine ausgiebige&amp;nbsp; Wirtshauskultur sorgten f&amp;uuml;r Am&amp;uuml;sement. Neben den Schlossanlagen mit dem Botanischen Garten steht vor allem die Geschichte des Volksgartens, Kurgartens, Hirschgartens, des &amp;bdquo;Controlors&amp;ldquo;, der Gerner Brauerei und etlicher traditionsreicher Wirtschaften im Mittelpunkt der kulturhistorischen Ausf&amp;uuml;hrungen. In Zusammenarbeit mit der &amp;bdquo;Geschichtswerkstatt Neuhausen e. V.&amp;ldquo;&lt;/p&gt;
DTSTART:20120201T193000
DTEND:20120201T210000
LOCATION:Volkshochschule Â· Neuhauser Trafo Â· Nymphenburger Str. 171a 
ORGANIZER:MVHS München Mitte   
END:VEVENT
END:VCALENDAR