BEGIN:VCALENDAR
VERSION:2.0
PRODID:-//Stadtgeschichte München//DE
CALSCALE:GREGORIAN
BEGIN:VEVENT
UID:1403@stadtgeschichte-muenchen.de
SUMMARY:Kloster und Kirche der Englischen Fräulein in Nymphenburg
DESCRIPTION:&lt;p&gt;Bereits vor den neuen Kirchenbaurichtlinien des II. Vatikanums entwarf der Architekt Josef Wiedemann einen Zentralraum zur&amp;nbsp; Versammlung der Gemeinde rund um den Altar. Das Innere der Klosterkirche ist gekennzeichnet durch Lichtf&amp;uuml;lle, befreiende Weite und H&amp;ouml;he, aber auch durch die Einbeziehung der umgebenden Natur und vermittelt den Eindruck eines schwebenden Zeltes. Geschm&amp;uuml;ckt ist der Raum mit den expressiven Bildhauerarbeiten der Schwester M. Bernhardine Weber.&lt;/p&gt;
DTSTART:20120203T150000
DTEND:20120203T163000
LOCATION:Zur Heiligen Dreifaltigkeit im Vorhof der Kirche Â· Maria-Ward-Str. 11
ORGANIZER:MVHS München Mitte   
END:VEVENT
END:VCALENDAR