BEGIN:VCALENDAR
VERSION:2.0
PRODID:-//Stadtgeschichte München//DE
CALSCALE:GREGORIAN
BEGIN:VEVENT
UID:14038@stadtgeschichte-muenchen.de
SUMMARY:Retratos do Brasil - Im Porträt: Brasilien
DESCRIPTION:&lt;p&gt;Brasilianische Melodien vermischt mit klassischer europäischer Musik lässt das 1991 gegründete Streicherensemble„Oficina de Cordas&quot; erklingen. „Retratos do Brasil - Im Porträt: Brasilien&quot;, unter der musikalischen Leitung des Cellisten Lars Hoefs, ist eine gründliche Recherche über die Interpretationsmöglichkeit brasilianischer Musik auf Saiteninstrumenten. Das Repertoire umfasst klassische Werke von Villa-Lobos, Guerra-Peixe, Radames Gnattali, Villani-Cortes, welche beispielhaft für das Wesen der brasilianischen Musik sind.&lt;/p&gt; &lt;p&gt;In Kooperation mit dem Deutsch-Brasilianischen Kulturverein e.V. und der Passionskirche.&lt;/p&gt; 
DTSTART:20171006T193000
DTEND:20171006T220000
LOCATION:Passionskirche Obersendling, Tölzer Str. 17
ORGANIZER:MVHS München Süd
END:VEVENT
END:VCALENDAR