BEGIN:VCALENDAR
VERSION:2.0
PRODID:-//Stadtgeschichte München//DE
CALSCALE:GREGORIAN
BEGIN:VEVENT
UID:1404@stadtgeschichte-muenchen.de
SUMMARY:Der Nymphenburger Friedhof â€“ ein „Memento mori„
DESCRIPTION:&lt;p&gt;Im November des Jahres 1875 wurde der Nymphenburger Friedhof eingeweiht. Die Geschichte des Stadtteils bzw. der ehemals selbstst&amp;auml;ndigen Gemeinde Nymphenburg l&amp;auml;sst sich an diesem Gottesacker deutlich machen. Hier sind viele bedeutende Pers&amp;ouml;nlichkeiten aus Kunst, Wirtschaft, Politik und Wissenschaft begraben. Daneben ruhen hier zahlreiche interessante Bewohner Nymphenburgs. Ein Gang durch einen fast unbekannten ehemaligen Dorffriedhof.&lt;/p&gt;
DTSTART:20111030T140000
DTEND:20111030T160000
LOCATION:Maria-Ward-Str. 10, Friedhofseingang
ORGANIZER:MVHS München Mitte   
END:VEVENT
END:VCALENDAR