BEGIN:VCALENDAR
VERSION:2.0
PRODID:-//Stadtgeschichte München//DE
CALSCALE:GREGORIAN
BEGIN:VEVENT
UID:14049@stadtgeschichte-muenchen.de
SUMMARY:Weihnachten mit Oskar 
DESCRIPTION:&lt;p&gt;Anrührend, witzig, manchmal auch sperrig sind die Geschichten, die der große bayerische Schriftsteller zur Weihnachtszeit erzählt: vom Schlittschuh-und vom Schlittenfahren, vom harten Alltag der Bäcker vor Weihnachten, von schwäbischen Weihnachtsessen in Amerika und von altbayerischen Christmetten am Starnberger See. Die Münchner Schauspielerin Monika Manz lässt Grafs Texte in vielen Variationenl ebendig werden. Ob anrührend sentimentalo der wild bayerisch, schluchzend oder säuselnd, scheppernd lachend oder&lt;br /&gt; lächelnd. Immer wird sie in ihrer Lesung der besonderen Atmosphäre der Zeit um Weihnachten, wie sie Graf beschreibt, gerecht. Die Musikerin Susanne Weinhöppel spielt mit ihrer Harfe und ihrer Stimme den Weihnachtsengel, der untermalt, forterzählt und kommentiert&lt;/p&gt; 
DTSTART:20171215T190000
DTEND:20171215T000000
LOCATION:Guardini90, Guardinistr. 90
ORGANIZER:MVHS München Süd
END:VEVENT
END:VCALENDAR