BEGIN:VCALENDAR
VERSION:2.0
PRODID:-//Stadtgeschichte München//DE
CALSCALE:GREGORIAN
BEGIN:VEVENT
UID:14062@stadtgeschichte-muenchen.de
SUMMARY:Was entsteht rund um das neue ASZ Westpark in der Garmischer Straße?
DESCRIPTION:&lt;p&gt;Noch vor ein paar Jahren war die Garmischer Straße eine sechsspurige Stadtautobahn, die den Stadtbezirk Sendling-Westpark zerschnitten hatte. Nach zwei Jahren Bauzeit geht es in der Garmischer Straße jetzt voran. Eine Promenade, Hunderte neue Bäume wurden geplanzt und nicht zuletzt ist das neue Alten- und Service-Zentrum Westpark errichtet. Das ASZ hat nun eine ideale Lage, kann von Osten und Westen gut erreicht werden und bietet als neuer sozialer Mittelpunkt mit vielen weiteren sozialen Einrichtungen die Chancen, das Viertel - nicht nur für Senioren - neu zu beleben.&lt;/p&gt; 
DTSTART:20171025T160000
DTEND:20171025T173000
LOCATION:ASZ Westpark, Garmischer Str. 209
ORGANIZER:MVHS München Süd
END:VEVENT
END:VCALENDAR