BEGIN:VCALENDAR
VERSION:2.0
PRODID:-//Stadtgeschichte München//DE
CALSCALE:GREGORIAN
BEGIN:VEVENT
UID:14077@stadtgeschichte-muenchen.de
SUMMARY:Die Alte Utting 
DESCRIPTION:&lt;p&gt;Seit Frühjahr letzten Jahres hat der Ammersee-Dampfer MS Utting auf der Sendlinger Eisenbahnbrücke seinen Anker gesetzt. Das Boardcafe liefert einen fantastischen Blick über Münchens Häusermeer und bietet neben kulinarischen auch literarische Leckerbissen. Im Maschinenraum geben nicht mehr die Schiffsturbinen den Takt an, sondern spielen Musikgruppen auf. Realisiert hat dieses ungewöhnliche Kunstprojekt der Verein Wannda e. V. Erfahren Sie mehr darüber, wie es dazu kam und welche Herausforderungen es zu überwinden gab.&lt;/p&gt; 
DTSTART:20180206T170000
DTEND:20180206T183000
LOCATION:Thalkirchner-/Ecke Lagerhausstr.
ORGANIZER:MVHS München Süd
END:VEVENT
END:VCALENDAR