BEGIN:VCALENDAR
VERSION:2.0
PRODID:-//Stadtgeschichte München//DE
CALSCALE:GREGORIAN
BEGIN:VEVENT
UID:14079@stadtgeschichte-muenchen.de
SUMMARY:Die Kirche Neu-Sankt-Margaret
DESCRIPTION:&lt;p&gt;1913 wurde die neue St.-Margaret-Kirche nach den Plänen von Michael Dosch und Franz Xaver Boemmel geweiht. Die Pläne für den monumentalen Bau mussten mehrfach aus Kostengründen reduziert werden. Wir betrachten gemeinsam die wuchtige, eklektizistische Architektur, die Motive der Spätrenaissance wie aus St. Michael ebenso wie des Barock (Theatinerkirche) und des Klassizismus aufnimmt. Wichtige Teile der Ausstattung, die erst 1938 abgeschlossen war, werden vorgestellt. Neu-Sankt-Margaret lohnt eine intensive Auseinandersetzung.&lt;/p&gt; 
DTSTART:20180224T150000
DTEND:20180224T163000
LOCATION:Margarethenplatz unter der Orgelempore,  Margaretenstr. 1
ORGANIZER:MVHS München Süd
END:VEVENT
END:VCALENDAR