BEGIN:VCALENDAR
VERSION:2.0
PRODID:-//Stadtgeschichte München//DE
CALSCALE:GREGORIAN
BEGIN:VEVENT
UID:14080@stadtgeschichte-muenchen.de
SUMMARY:Der Westpark in herbstlicher Farbenpracht 
DESCRIPTION:&lt;p&gt;Im Herbstlicht erscheint der Westpark in den schönsten Stimmungen und Farben. 1983 zur Internationalen Gartenbauausstellung errichtet, ist er inzwischen zu einem beliebten Naherholungsgebiet und grünen Juwel geworden. Auf rhythmisch schwingenden Wegen tauchen wir ein in die außergewöhnliche Vielfalt der Pflanzen, Bäume und Gärten. Ausgehend vom Ostasienensemble entdecken wir verschiedene Themengärten sowie idyllische Plätze und Oasen der Ruhe und Inspiration.&lt;/p&gt; 
DTSTART:20171105T140000
DTEND:20171105T153000
LOCATION:Westpark, vor der Thai-Sala
ORGANIZER:MVHS München Süd
END:VEVENT
END:VCALENDAR