BEGIN:VCALENDAR
VERSION:2.0
PRODID:-//Stadtgeschichte München//DE
CALSCALE:GREGORIAN
BEGIN:VEVENT
UID:14099@stadtgeschichte-muenchen.de
SUMMARY:Mordweihnacht in Aubing Krimis zum Frühstück
DESCRIPTION:&lt;p&gt;Weihnachten! Die „staade Zeit&quot; ist erfüllt mit Kerzenlicht, Glühweinduft und liebevoll verschnürten Päckchen. Angela Eßer und Beatrix Mannel präsentieren an diesem Sonntagmorgen mit Kostproben aus ihren Kriminalromanen und -geschichten allerdings ihr so ganz eigenes Bild von den festlichen Tagen. Da erwachen auf einmal schwarze Gedanken im Kreise der Liebsten und die Messer werden nicht nur zum Tranchierend er Weinachtsgans gewetzt. Also: Fürchtet euch - alle Jahre wieder!&lt;br /&gt; Vor der Lesung wird ein Frühstück serviert, das im Preis enthalten ist.&lt;br /&gt; Frühstück von 9.30 bis 10.30 Uhr, Lesung von 10.30 bis 12.00 Uhr.&lt;/p&gt; 
DTSTART:20171203T093000
DTEND:20171203T120000
LOCATION:Kulturzentrum ubo9, Ubostr. 9
ORGANIZER:MVHS München West
END:VEVENT
END:VCALENDAR