BEGIN:VCALENDAR
VERSION:2.0
PRODID:-//Stadtgeschichte München//DE
CALSCALE:GREGORIAN
BEGIN:VEVENT
UID:1410@stadtgeschichte-muenchen.de
SUMMARY:Von der „Straßâ€˜ auf München„ zum Boulevard
DESCRIPTION:&lt;p&gt;Die einstige &amp;bdquo;Stra&amp;szlig;&amp;rsquo; auf M&amp;uuml;nchen&amp;ldquo; mit Bauernh&amp;ouml;fen und einer kleinen Pestkapelle entwickelte sich im 19. Jahrhundert zur bedeutenden Verkehrsachse zwischen M&amp;uuml;nchen und Pasing. Handel und Industrie lie&amp;szlig;en sich hier nieder, aber auch Ausflugslokale mit Bierg&amp;auml;rten und eigener Brauerei. Hinzu kamen diverse Mietsh&amp;auml;user &amp;ndash; davon einige Jugendstilbauten des Architekten Josef Lang (1878&amp;ndash;1927). Durch den mittlerweile &amp;uuml;berhand nehmenden Verkehr verlor die Stra&amp;szlig;e ihr fr&amp;uuml;heres Erscheinungsbild und damit auch ihre Aufenthaltsqualit&amp;auml;t. Doch vieles soll sich &amp;auml;ndern: Durch den Bau der &amp;bdquo;Nordumgehung Pasing&amp;ldquo;&lt;br /&gt; bald entlastet, soll hier eine Allee entstehen, die zu einem neugestalteten, verkehrsberuhigten Ortszentrum zwischen Rathaus und Bahnhofsplatz f&amp;uuml;hren wird: Ein Teil der Landsberger Stra&amp;szlig;e wird zum Boulevard.&lt;/p&gt;
DTSTART:20111009T140000
DTEND:20111009T153000
LOCATION:Pasinger Rathaus, Hochzeitsbrunnen, Landsberger Straße 486 
ORGANIZER:MVHS München Mitte   
END:VEVENT
END:VCALENDAR