BEGIN:VCALENDAR
VERSION:2.0
PRODID:-//Stadtgeschichte München//DE
CALSCALE:GREGORIAN
BEGIN:VEVENT
UID:14107@stadtgeschichte-muenchen.de
SUMMARY:Checkpoint Kinderzimmer I: Deutsch-russische Beziehungen in der Kinderliteratur 
DESCRIPTION:&lt;p&gt;Die Beziehungen zwischen der deutschsprachigen und der russischen Kinderliteratur sind lang und vielfältig. Nach der bundesrepublikanisch-sowjetischen Eiszeit gibt es heute wieder Austausch. Wissenschaftler aus Deutschland, Österreich, Russland und den USA nehmen während der Tagung erstmals die zahlreichen Verflechtungen der beiden Kinderliteraturen in den Blick und diskutieren deren Wechselbeziehungen vom 18. bis 20. Jahrhundert. Die Tagung findet auf Deutsch und Englisch statt.&lt;br /&gt; Eine Kooperation mit der Stiftung Internationale Jugendbibliothek und&amp;nbsp; dem Kinderliterarischen Forschungszentrum am Puschkin-Haus.&lt;br /&gt; Unter der Schirmherrschaft von Staatsminister Dr. Ludwig Spaenle, gefördert von der Bayerischen Staatsregierung.&lt;/p&gt; 
DTSTART:20171019T100000
DTEND:20171019T170000
LOCATION: Schloss Blutenburg, Christa-Spangenberg-Saal,  Seldweg 15
ORGANIZER:MVHS München West
END:VEVENT
END:VCALENDAR