BEGIN:VCALENDAR
VERSION:2.0
PRODID:-//Stadtgeschichte München//DE
CALSCALE:GREGORIAN
BEGIN:VEVENT
UID:14113@stadtgeschichte-muenchen.de
SUMMARY:Schloss Nymphenburg in der NS-Zeit - Führung
DESCRIPTION:&lt;p&gt;Was war damals los im Schloss? Und was blieb noch übrig aus jener Zeit? Die Machtansprüched es NS-Regimes ließen Schloss Nymphenburg keineswegs in einen Dornröschenschlaf sinken: rege Bautätigkeit und rauschende Feste, aber auch Zwangsräumungen und Bombardierung sind Themen unseres Rundgangs. Die Führung findet&lt;br /&gt; in den Außenanlagen des Schlosse statt.&lt;/p&gt; 
DTSTART:20171022T140000
DTEND:20171022T153000
LOCATION:Schloss Nymphenburg, vor Freitreppe
ORGANIZER:MVHS München West
END:VEVENT
END:VCALENDAR