BEGIN:VCALENDAR
VERSION:2.0
PRODID:-//Stadtgeschichte München//DE
CALSCALE:GREGORIAN
BEGIN:VEVENT
UID:14115@stadtgeschichte-muenchen.de
SUMMARY:Der Erinnerung Raum geben - Neues von der Ehrenbürgstraße
DESCRIPTION:&lt;p&gt;Das NS-Dokumentationszentrum wird auf dem Gelände des ehemaligen Zwangsarbeiterlagers an der Ehrenbürgstraßein Neuaubing eine Dependance einrichten. Am historischen Ort sollen eine Dauerausstellung sowie ein umfangreiches pädagogisches Programm über die massenhaften Verbrechen der Zwangsarbeit in München aufklären und an die verfolgten Menschen erinnern. Gründungsdirektor Prof. Dr.Winfried Nerdinger und seine Mitarbeiter geben Einblicke in die Projektplanungen und beantworten die Fragen des Publikums&lt;/p&gt; 
DTSTART:20180118T183000
DTEND:20180118T200000
LOCATION:Kulturzentrum ubo9, Ubostr. 9
ORGANIZER:MVHS München West
END:VEVENT
END:VCALENDAR