BEGIN:VCALENDAR
VERSION:2.0
PRODID:-//Stadtgeschichte München//DE
CALSCALE:GREGORIAN
BEGIN:VEVENT
UID:1412@stadtgeschichte-muenchen.de
SUMMARY:Die Englischen Fräulein in Pasing (Congregatio Jesu)
DESCRIPTION:&lt;p&gt;Ganz nah am Pasinger Marienplatz rahmt ein langgestrecktes Eckgeb&amp;auml;ude an der Planegger Stra&amp;szlig;e/Institutstra&amp;szlig;e ein Gel&amp;auml;nde ein, das ein eigenes Bild der vergangenen 150 Jahre Pasinger Geschichte widerspiegelt &amp;ndash; ein Bild der vielf&amp;auml;ltigen Aktivit&amp;auml;ten der Congregatio Jesu, wie die offizielle Bezeichnung seit Januar 2003 lautet. Im Begehen des Gel&amp;auml;ndes heute, in der Betrachtung alter Bilder und im Erz&amp;auml;hlen erscheinen Entwicklungsstr&amp;auml;nge der Gesellschaft, der schulischen Bildung und der Ordensgemeinschaft.&lt;/p&gt; &lt;br /&gt;
DTSTART:20120228T000000
DTEND:20120228T000000
LOCATION:Eingangstor der Congregatio Jesu, Institutstr. 3 
ORGANIZER:MVHS München Mitte   
END:VEVENT
END:VCALENDAR