BEGIN:VCALENDAR
VERSION:2.0
PRODID:-//Stadtgeschichte München//DE
CALSCALE:GREGORIAN
BEGIN:VEVENT
UID:14120@stadtgeschichte-muenchen.de
SUMMARY:Vom Herrenhaus in Menzing zur Sommerresidenz Nymphenburg
DESCRIPTION:&lt;p&gt;Die Hofmark Menzing gehört zu den historischen Keimzellen der Schlossanlage Nymphenburg.Sichtachsen verbanden die Blutenburg und St. Martin in Untermenzing mit der Wittelsbacher Sommerresidenz. Die „Alte Menzinger Straße&quot; führt heute noch an der westlichen Schlossmauer entlang. Gleich dahinter hat sich ein ehemaliger Straßenbaum erhalten, die älteste noch vitale Linde Münchens. Der Vortrag beleuchtet Unterschiede und Gemeinsamkeiten der beiden Orte und bietet Einblicke in ihre reiche Geschichte. Im Rahmend es Festjahres „1200 Jahre Menzing&quot;.&lt;/p&gt; 
DTSTART:20171116T180000
DTEND:20171116T193000
LOCATION:Schulzentrum, Pfarrer-Grimm-Str. 1
ORGANIZER:MVHS München West
END:VEVENT
END:VCALENDAR