BEGIN:VCALENDAR
VERSION:2.0
PRODID:-//Stadtgeschichte München//DE
CALSCALE:GREGORIAN
BEGIN:VEVENT
UID:1413@stadtgeschichte-muenchen.de
SUMMARY:Besuch bei der Feuerwache 6
DESCRIPTION:&lt;p&gt;Am 6. Juli 1979 nahm die Feuerwache 6 (Pasing) in ihrer heutigen Form den Betrieb auf. Sie wurde auf einer Grundst&amp;uuml;cksfl&amp;auml;che von 15 700 Quadratmetern erbaut und ersetzte den Standort im alten Pasinger Rathaus, dem heutigen VHS-Geb&amp;auml;ude. Auf dem Areal&amp;nbsp; befindet sich neben dem eigentlichen Wachgeb&amp;auml;ude noch ein Werkstattund Lagergeb&amp;auml;ude. Es sind dort u. a. eine Atemschutzwerkstatt und ein Sonderger&amp;auml;telager untergebracht. Bei der F&amp;uuml;hrung werden auch die Besonderheiten der Feuerwache 6 besichtigt: das Trainingszentrum f&amp;uuml;r Rettungsmedizin, die Taucherausbildung sowie die Atemschutzwerkstatt.&lt;/p&gt;
DTSTART:20111202T143000
DTEND:20111202T163000
LOCATION:Bassermannstr. 20 
ORGANIZER:MVHS München Mitte   
END:VEVENT
END:VCALENDAR