BEGIN:VCALENDAR
VERSION:2.0
PRODID:-//Stadtgeschichte München//DE
CALSCALE:GREGORIAN
BEGIN:VEVENT
UID:1414@stadtgeschichte-muenchen.de
SUMMARY:Besuch bei der Polizeiinspektion 45
DESCRIPTION:&lt;p&gt;Der Standort der Polizeiinspektion 45 in Pasing liegt in dem historischen Geb&amp;auml;ude der Englischen Fr&amp;auml;ulein an der Planegger Stra&amp;szlig;e. Sie ist eine der acht Schutzpolizeiinspektionen im M&amp;uuml;nchner Westen und ist zust&amp;auml;ndig f&amp;uuml;r die Sicherheit von ca. 100 000 Menschen, die in den Stadtbezirken Pasing/Obermenzing und Aubing/Lochhausen/Langwied leben. Arbeit und Dienststelle werden unter dem Leitbild &amp;bdquo;Der B&amp;uuml;rger steht im Mittelpunkt&amp;ldquo; vorgestellt.&lt;/p&gt;
DTSTART:20120218T100000
DTEND:20120218T120000
LOCATION:Polizeiinspektion 45, Institutstr. 1 Â·
ORGANIZER:MVHS München Mitte   
END:VEVENT
END:VCALENDAR