BEGIN:VCALENDAR
VERSION:2.0
PRODID:-//Stadtgeschichte München//DE
CALSCALE:GREGORIAN
BEGIN:VEVENT
UID:14144@stadtgeschichte-muenchen.de
SUMMARY:​MUCA - ein Museum für Street Art
DESCRIPTION:&lt;p&gt;Das neu eröffnete MUCA - Museum of Urban und Contemporary Art - bietet Straßenkunst ein Dach über dem Kopf. Wer sich für diese dynamischeK unstrichtungi nteressiert,d er ist in dieserF ührung genau richtig. Wir schauen uns gemeinsam die wechselnden Ausstellungen an und lernen die Facetten von Street Art, Urban Art und Graffiti kennen. Dabei begegnen uns bekannte Größen wie Banksy, Shepard Fairy und Stohead ebenso wie junge und aufstrebende Künstler der Street Art Szene.&lt;/p&gt; 
DTSTART:20171101T120000
DTEND:20171101T130000
LOCATION:MUCA Museum of Urban and Contemporary Art · Hotterstr. 12
ORGANIZER:MVHS
END:VEVENT
END:VCALENDAR