BEGIN:VCALENDAR
VERSION:2.0
PRODID:-//Stadtgeschichte München//DE
CALSCALE:GREGORIAN
BEGIN:VEVENT
UID:14149@stadtgeschichte-muenchen.de
SUMMARY:Schlittenspaß und Faschingslust
DESCRIPTION:&lt;p&gt;Langsam und unkomfortabel reiste man in früherer Zeit. Nur im Winter, bei Eis und Schnee, ermöglichten prachtvolle Schlitten ein rasantes Fortkommen. Das Marstallmuseum in den ehemaligen Stallungen von Schloss Nymphenburg zeigt einige dieser Fahrzeuge. Sogar die Lampen des Prunkschlittens von Ludwig II. - dem ersten elektrisch beleuchteten Fahrzeug der Welt - leuchten! In einem Fuhrpark von märchenhafter Noblesse werden neben der ausgefeilten Technik und Kunstfertigkeit die ausgelasenen Faschingsfreuden der Hofgesellschaft geschildert.&lt;/p&gt; 
DTSTART:20180106T140000
DTEND:20180106T153000
LOCATION:Schloss Nymphenburg vor dem Marstallmuseum
ORGANIZER:MVHS
END:VEVENT
END:VCALENDAR