BEGIN:VCALENDAR
VERSION:2.0
PRODID:-//Stadtgeschichte München//DE
CALSCALE:GREGORIAN
BEGIN:VEVENT
UID:14155@stadtgeschichte-muenchen.de
SUMMARY:München und Italien - Dolce Vita in Bayern
DESCRIPTION:&lt;p&gt;Die Nähe zu Italien und der kulturelle Austausch mit dem Süden zeigen sich in zahllosen Werken italienischer Künstler. Die Theatinerkirche wurde von einer Kurfürstin aus Turin in Auftrag gegeben und von italienischen Baumeistern nach römischem Vorbild erbaut. Köche, Kaffeesieder und Eishersteller aus dem Süden gehören seit Jahrhunderten zum Münchner Stadtleben. So lassen nicht nur Kirchen und die Feldherrnhalle südliches Flair spüren, viele italienische Einwanderer prägten die Geschichte Münchens und machten sie zur nördlichsten Stadt Italiens.&lt;/p&gt; 
DTSTART:20171027T150000
DTEND:20171027T163000
LOCATION:Gasteig · Rosenheimer Str. 5
ORGANIZER:MVHS
END:VEVENT
END:VCALENDAR