BEGIN:VCALENDAR
VERSION:2.0
PRODID:-//Stadtgeschichte München//DE
CALSCALE:GREGORIAN
BEGIN:VEVENT
UID:14158@stadtgeschichte-muenchen.de
SUMMARY:Alle Jahre anders - Weihnachtsbräuche im Wandel der Zeit
DESCRIPTION:&lt;p&gt;&lt;strong&gt;„&lt;/strong&gt;Whihe naht&lt;strong&gt;“&lt;/strong&gt;&amp;nbsp;-Weihnachten - ist ein aus dem Mittelalter überlieferter Begriff. Von seinen Anfängen bis hin zum bürgerlichen Familienfest im 19. Jahrhundert vermischtens ich heidnischer, christliche und familiäre Traditionen. &lt;strong&gt;„&lt;/strong&gt;Alle Jahre wieder&quot; heißt es im Weihnachtslied. Ist es wirklich so oder sind Weihnachtsbräuche und Festrequisiten auch Veränderungen unterworfen? Seit wann bringt das Christkind Geschenke und warum kam es zuerst in protestantischen Gegenden? Welche Bräuche sind typisch für München und sein Umland?&lt;/p&gt; &lt;p&gt;Wir empfehlen ergänzend die Führung „Die Krippenausstellung des Bayerischen Nationalmuseums&quot; (F213290) mit Dr. Kaija Voss und die Führungsreihe .,Weihnachtliches München&quot; (F182240,F 182250, F182260, F182270, F182280) mit Katja Sebald und Maria Jenkin-Jones.&lt;/p&gt; 
DTSTART:20171206T200000
DTEND:20171206T213000
LOCATION:Gasteig · Rosenheimer Str. 5
ORGANIZER:MVHS
END:VEVENT
END:VCALENDAR