BEGIN:VCALENDAR
VERSION:2.0
PRODID:-//Stadtgeschichte München//DE
CALSCALE:GREGORIAN
BEGIN:VEVENT
UID:14160@stadtgeschichte-muenchen.de
SUMMARY:Die Heiligen Drei Könige mit ihrem Stern
DESCRIPTION:&lt;p&gt;Der Begriff „Heilige Drei Könige&quot; kommt aus der Weihnachtsgeschichte des Matthäus-Evangeliums. Sie sind die Weisen oder auch die Magier aus dem Morgenland. Ihre Gebeine liegen in einem prächtigen Reliquienschrein im Kölner Dom. Im Volksmund ist der 6. Januar als Dreikönigsfest, Dreikönigstag, Heilige Drei Könige oder Epiphanias bekannt, regional auch als Groß-Neujahr. Waren es wirklich drei? Waren sie immer willkommen? Erfahren Sie mehr, noch bevor die Sternsinger in Gestalt der Heiligen Drei Könige vor Ihrer Haustür stehen.&lt;/p&gt; &lt;p&gt;Wir empfehlen ergänzend die Führung „Die Krippenausstellung des Bayerischen Nationalmuseums&quot; (F213290) mit Dr. Kaija Voss und die Führungsreihe „Weihnachtliches München&quot; (F182240, F182250, F182260, F182270, F182280) mit Katja Sebald und Maria Jenkin-Jones.&lt;/p&gt; 
DTSTART:20180104T180000
DTEND:20180104T193000
LOCATION:Gasteig · Rosenheimer Str. 5
ORGANIZER:MVHS
END:VEVENT
END:VCALENDAR