BEGIN:VCALENDAR
VERSION:2.0
PRODID:-//Stadtgeschichte München//DE
CALSCALE:GREGORIAN
BEGIN:VEVENT
UID:14161@stadtgeschichte-muenchen.de
SUMMARY:Fastnacht und Faschingstaumel - eine Kulturgeschichte des Karnevals
DESCRIPTION:&lt;p&gt;Seit dem Mittelalter feiert man den Fasching als Ausnahmezustand vor der strengen Fastenzeit. Narren und Harlequins bevölkerten die Straßen während der Fasnacht, die Barockzeit zelebrierte den Karneval mit prunkvollen Kostümfesten und Schlittenfahrten, während im 19. Jahrhundert großartige Künstlerfaschingsbäle den Mittelpunkt bildeten. In der Nachkriegsziet dienten die improvisierten und ausgelassenen Faschingsfeste als Auszeit vom tristen und ärmlichen Alltagsleben. Bis heute fasziniert der Karneval die Menschen - nicht nur im Rheinland!&lt;/p&gt; 
DTSTART:20180206T180000
DTEND:20180206T193000
LOCATION:Gasteig · Rosenheimer Str. 5
ORGANIZER:MVHS
END:VEVENT
END:VCALENDAR