BEGIN:VCALENDAR
VERSION:2.0
PRODID:-//Stadtgeschichte München//DE
CALSCALE:GREGORIAN
BEGIN:VEVENT
UID:14170@stadtgeschichte-muenchen.de
SUMMARY:München bei Nacht: Stadtspaziergang mit spannenden Geschichten und „Insidertipps
DESCRIPTION:&lt;p&gt;Zu ungewöhnlicher Zeit gehen wir zum Jakobsplatz, mit Stadtmuseum, Jüdischem Zentrum und Synagoge. Über den Viktualienmarkt, wo wir Spezialitäten und Delikatessengeschäfte entdecken, führt uns der Weg ins Tal. Historische Gebäude und moderne Architektur erzählen spannende Geschichten von Bauherrn und Bewohnern. Bei unserem Nachtwalk schauen wir uns interessante Lokale, angesagte Bars und Treffpunkte an. Sie bekommen Ausgehtipps, Ideen für den nächsten Nachtausflug und weitere Stadterkundungen. Ausklang in der Bar Hotel Cortina.&lt;/p&gt; 
DTSTART:20180118T180000
DTEND:20180118T200000
LOCATION:Eingang Stadtcafe, St. Jakobs-Platz 1 
ORGANIZER:MVHS
END:VEVENT
END:VCALENDAR