BEGIN:VCALENDAR
VERSION:2.0
PRODID:-//Stadtgeschichte München//DE
CALSCALE:GREGORIAN
BEGIN:VEVENT
UID:14182@stadtgeschichte-muenchen.de
SUMMARY:Kunst oder Krempel?
DESCRIPTION:&lt;p&gt;Fernsehsendungen wie „Kunst und Krempel&quot; (BR)e rfreuen sich großer Beliebtheit. Dabei spielt auch Design des 20. Jahrhunderts eine wichtige Rolle,w ie Ausstellungenu nd Designauktionenz eigen. Werfen Sie einen Blick hinter die Kulissen des renommierten Auktionshauses Quittenbaum. Es besteht die Möglichkeit, eigene Schätze von einem Experten begutachten zu lassen und einen Einblick in die Bewertung von Auktionsobjekten zu gewinnen. Viele Designklassiker kann man betrachten und die Arbeit eines Auktionshauses kennenlernen. Zu bewertende Objekte bitte vorab per Foto einreichen.&lt;/p&gt; 
DTSTART:20180209T163000
DTEND:20180209T180000
LOCATION:Quittenbaum Kunstauktionen· Theresienstr. 60
ORGANIZER:MVHS München Mitte   
END:VEVENT
END:VCALENDAR