BEGIN:VCALENDAR
VERSION:2.0
PRODID:-//Stadtgeschichte München//DE
CALSCALE:GREGORIAN
BEGIN:VEVENT
UID:14195@stadtgeschichte-muenchen.de
SUMMARY:Kathrein stellt den Tanz ein
DESCRIPTION:&lt;p&gt;In der Peterskirchek ann man der „staaden Zeit&quot; von einst nachspüren und gleichzeitig ein Stück der Geschichte dieser ältesten Münchner Kirche erfahren. Ausgehend von der Heiligen Katharina, die lgnaz Günther für den Eligius-Altars chuf, erfahren Sie, warum Kathrein den Tanz einstellt, welche Bedeutung die Festtage der Heiligen im Advent hatten und wofür man früher Wachsstöckl und Kerzen brauchte.&lt;/p&gt; &lt;p&gt;Wir empfehlen ergänzend die Vortragsreihe „Weihnachtsbräuche im Wandel der Zeit&quot; (F219090, F219100, F219110) mit Dr. Kaija Voss.&lt;/p&gt; 
DTSTART:20171201T160000
DTEND:20171201T170000
LOCATION:St. Peter, unter der Orgelempore · Rindermarkt 1
ORGANIZER:MVHS
END:VEVENT
END:VCALENDAR