BEGIN:VCALENDAR
VERSION:2.0
PRODID:-//Stadtgeschichte München//DE
CALSCALE:GREGORIAN
BEGIN:VEVENT
UID:14198@stadtgeschichte-muenchen.de
SUMMARY:Wunderbare Weihnachtszeit
DESCRIPTION:&lt;p&gt;Das „Augustinerkindl&quot; in der Bürgersaalkircheis t das Christkind der Münchner. Bis heute genießt das uralte Fatschenkindl, um das sich die Geschichte eines Wunders rankt, große Verehrung. An den Tagen vor Weihnachten hatte man auch früher viel zu tun, zwischen dem Schlachten der Mettensau und dem Besuch der Christmette fand sich trotzdem Zeit fürs „Scheitlklauben&quot; und andere Liebesorakel.&lt;/p&gt; &lt;p&gt;Wir empfehlen ergänzend die Vortragsreihe„ Weihnachtsbräucheim Wandel der Zeit&quot; (F219090, F219100, F219110) mit Dr. Kaija Voss.&lt;/p&gt; 
DTSTART:20171222T160000
DTEND:20171222T170000
LOCATION:Treffpunkt: Bürgersaalkirche Neuhauser Str. 14
ORGANIZER:MVHS
END:VEVENT
END:VCALENDAR