BEGIN:VCALENDAR
VERSION:2.0
PRODID:-//Stadtgeschichte München//DE
CALSCALE:GREGORIAN
BEGIN:VEVENT
UID:14219@stadtgeschichte-muenchen.de
SUMMARY:Film: Rotmord
DESCRIPTION:&lt;p&gt;Fernsehspiel nach Tankred Dorst zum Theaterstück Toller. Regie: Peter Zadek, WDR 1969&lt;/p&gt; 
DTSTART:20170126T190000
DTEND:20170126T000000
LOCATION:Sendlinger Kulturschmiede, Daiserstraße 22
ORGANIZER:Plenum R - Revolution und Rätedemokratie
END:VEVENT
END:VCALENDAR