BEGIN:VCALENDAR
VERSION:2.0
PRODID:-//Stadtgeschichte München//DE
CALSCALE:GREGORIAN
BEGIN:VEVENT
UID:14221@stadtgeschichte-muenchen.de
SUMMARY:Gründung und Politik der KPD in Bayern 1919
DESCRIPTION:&lt;p&gt;Sebastian Zehetmair, Historiker, promoviert zur „KPD in Bayern, 1919-1924&quot; an der Universität München und dem Zentrum für Zeithistorische Forschung Potsdam.&lt;/p&gt; 
DTSTART:20180209T190000
DTEND:20180209T000000
LOCATION:Sendlinger Kulturschmiede, Daiserstraße 22
ORGANIZER:Plenum R - Revolution und Rätedemokratie
END:VEVENT
END:VCALENDAR