BEGIN:VCALENDAR
VERSION:2.0
PRODID:-//Stadtgeschichte München//DE
CALSCALE:GREGORIAN
BEGIN:VEVENT
UID:14222@stadtgeschichte-muenchen.de
SUMMARY:„Hier Revolution! Wer dort?“
DESCRIPTION:&lt;p&gt;Landauer und Mühsam gehören bis heute zu den bedeutendsten Anarchisten im deutschsprachigen Raum.&lt;br /&gt; Vorgestellt wird das Engagement der beiden Revolutionäre und ihr Anarchismus-Verständnis jenseits von Zentralstaat und Kapitalismus samt Gegenwartsbezug.&lt;/p&gt; &lt;p&gt;Dr. Siegbert Wolf, Historiker, Politikwissenschaftler, Punk.&lt;/p&gt; 
DTSTART:20180213T190000
DTEND:20180213T000000
LOCATION:Sendlinger Kulturschmiede, Daiserstraße 22
ORGANIZER:Plenum R - Revolution und Rätedemokratie
END:VEVENT
END:VCALENDAR