BEGIN:VCALENDAR
VERSION:2.0
PRODID:-//Stadtgeschichte München//DE
CALSCALE:GREGORIAN
BEGIN:VEVENT
UID:14227@stadtgeschichte-muenchen.de
SUMMARY:Filmabend: Es geht durch die Welt ein Geflüster
DESCRIPTION:&lt;p&gt;Dokumentarfilm über die Münchner Revolution und Räterepublik 1918/19&lt;/p&gt; &lt;p&gt;Mit der Autorin und Regisseurin Ulrike Bez&lt;/p&gt; 
DTSTART:20180212T190000
DTEND:20180212T000000
LOCATION:Sendlinger Kulturschmiede, Daiserstraße 22
ORGANIZER:Plenum R - Revolution und Rätedemokratie
END:VEVENT
END:VCALENDAR