BEGIN:VCALENDAR
VERSION:2.0
PRODID:-//Stadtgeschichte München//DE
CALSCALE:GREGORIAN
BEGIN:VEVENT
UID:1426@stadtgeschichte-muenchen.de
SUMMARY:Weihnachten im Bild
DESCRIPTION:
DTSTART:20111127T140000
DTEND:20111127T000000
LOCATION:Kasse
ORGANIZER:Bayerisches Nationalmuseum
END:VEVENT
END:VCALENDAR