BEGIN:VCALENDAR
VERSION:2.0
PRODID:-//Stadtgeschichte München//DE
CALSCALE:GREGORIAN
BEGIN:VEVENT
UID:14307@stadtgeschichte-muenchen.de
SUMMARY:Russische Künstler in Schwabing 
DESCRIPTION:&lt;p&gt;Wir entdecken Orte der früheren Ateliers, Salons und Treffpunkte von Malerinnen und Malern wie Marianne&lt;br /&gt; von Werefkin, Alexej von Jawlensky, Wassily Kandinsky und David Burljuk, aber auch des Tänzers Alexander Sacharoff und des begnadeten Pädagogen, Malers und Leiters einer Maischule, Anton Azbe. In ihren Wirkungsstätten blühte die Schwabinger Boheme im frühen 20. Jahrhundert in München noch einmal auf, bevor die politischen Verhältnisse die Künstler in alle Richtungen vertrieben.&lt;/p&gt; 
DTSTART:20180121T110000
DTEND:20180121T123000
LOCATION:Ecke Giselastr./ Leopoldstr. (vor Leopoldstr. 30)
ORGANIZER:MVHS
END:VEVENT
END:VCALENDAR