BEGIN:VCALENDAR
VERSION:2.0
PRODID:-//Stadtgeschichte München//DE
CALSCALE:GREGORIAN
BEGIN:VEVENT
UID:14319@stadtgeschichte-muenchen.de
SUMMARY:Um‘s Isartor zum Valentin-Karlstadt-Musäum
DESCRIPTION:
DTSTART:20180310T110000
DTEND:20180310T133000
LOCATION:Unter dem Bogen des Isartores
ORGANIZER:Münchner Zeitensprünge
END:VEVENT
END:VCALENDAR