BEGIN:VCALENDAR
VERSION:2.0
PRODID:-//Stadtgeschichte München//DE
CALSCALE:GREGORIAN
BEGIN:VEVENT
UID:14343@stadtgeschichte-muenchen.de
SUMMARY:Schwabing und die Russische Revolution
DESCRIPTION:&lt;p&gt;&amp;nbsp;&lt;/p&gt; &lt;p&gt;MIR - Zentrum russischer Kultur:&lt;/p&gt; &lt;p&gt;&lt;strong&gt;Lenins Frau&lt;/strong&gt;&lt;br /&gt; Lesung mit der Schriftstellerin Tatjana Kuschtewskaja,&lt;/p&gt; &lt;p&gt;&lt;strong&gt;Der russische Adel und die Revolution&lt;/strong&gt;&lt;br /&gt; Vortrag von Nikolai Vorontsov, der Bass Frits Kamp singt russische Romanzen aus der Zeit der Russischen Revolution, begleitet von Jekaterina Medvedeva (Klavier) und Arthur Medvedev (Geige).&lt;/p&gt; 
DTSTART:20171112T180000
DTEND:20171112T000000
LOCATION:Seidlvilla, Nikolaiplatz 1b
ORGANIZER:Seidlvilla
END:VEVENT
END:VCALENDAR