BEGIN:VCALENDAR
VERSION:2.0
PRODID:-//Stadtgeschichte München//DE
CALSCALE:GREGORIAN
BEGIN:VEVENT
UID:14348@stadtgeschichte-muenchen.de
SUMMARY:Liesl Karlstadt * Die schweren Jahre
DESCRIPTION:
DTSTART:20180113T110100
DTEND:20180113T130100
LOCATION:Unter dem Bogen des Isartores
ORGANIZER:Münchner Zeitensprünge
END:VEVENT
END:VCALENDAR