BEGIN:VCALENDAR
VERSION:2.0
PRODID:-//Stadtgeschichte München//DE
CALSCALE:GREGORIAN
BEGIN:VEVENT
UID:1437@stadtgeschichte-muenchen.de
SUMMARY:Spielen, speisen, musizieren - Festkultur am Münchner Hof
DESCRIPTION:
DTSTART:20111013T180000
DTEND:20111013T000000
LOCATION:Kasse
ORGANIZER:Bayerisches Nationalmuseum
END:VEVENT
END:VCALENDAR