BEGIN:VCALENDAR
VERSION:2.0
PRODID:-//Stadtgeschichte München//DE
CALSCALE:GREGORIAN
BEGIN:VEVENT
UID:1443@stadtgeschichte-muenchen.de
SUMMARY:Textile Kostbarkeiten in der Krippensammlung
DESCRIPTION:
DTSTART:20111208T180000
DTEND:20111208T000000
LOCATION:Kasse
ORGANIZER:Bayerisches Nationalmuseum
END:VEVENT
END:VCALENDAR