BEGIN:VCALENDAR
VERSION:2.0
PRODID:-//Stadtgeschichte München//DE
CALSCALE:GREGORIAN
BEGIN:VEVENT
UID:14493@stadtgeschichte-muenchen.de
SUMMARY:Die Ausgrabungen am Marienhof 2011/12
DESCRIPTION:&lt;p&gt;Eröffnungsvortrag zr Ausstellung Archäologisches Schaufenster: Funde vom Marienplat&lt;/p&gt; 
DTSTART:20171128T193000
DTEND:20171128T000000
LOCATION:Saal des Münchner Stadtmuseums:
ORGANIZER:
END:VEVENT
END:VCALENDAR