BEGIN:VCALENDAR
VERSION:2.0
PRODID:-//Stadtgeschichte München//DE
CALSCALE:GREGORIAN
BEGIN:VEVENT
UID:1450@stadtgeschichte-muenchen.de
SUMMARY:Bayerische Italiener in München und im Ebersberger Raum
DESCRIPTION:&lt;p&gt;&lt;font face=&quot;Arial&quot;&gt;&lt;small&gt;Erstaunlich viele Italiener zog es im Lauf der letzten Jahrhunderte in den Ebersberger Raum.&lt;/small&gt;&lt;br /&gt; &lt;/font&gt;&lt;small&gt;&lt;font face=&quot;Arial&quot;&gt;In der Veranstaltung werden Kaufleute aus dem Friaul vorgestellt, die sich rege und innovativ am ber&amp;uuml;hmten Sebastianidult beteiligten und von denen sich einige dauerhaft in Ebersberg niederlie&amp;szlig;en. Zu ihnen gesellen sich bekanntere Italiener, wie die Familie Dall&#039;Armi aus Trient, die bei Ebersberg lebte, die Familie Arco aus dem gleichnamigen Ort am Gardasee, deren Nachfahren lange Zeit Besitzer des Schlosses Zinneberg bei Glonn waren. Zur in Italien sehr m&amp;auml;chtigen Familie der Marchesi Pallavicini aus Genua fand ich eine faszinierende Geschichte, wie vier wichtige M&amp;uuml;nchner Kunstwerke einen langen Weg nach Italien nahmen und wie sie wieder nach Bayern zur&amp;uuml;ckkehrten. &lt;br /&gt; &lt;/font&gt;&lt;/small&gt;&lt;font face=&quot;Arial&quot;&gt;&lt;small&gt;&lt;br /&gt; Veranstalter des Abends ist der Historische Verein f&amp;uuml;r den Landkreis Ebersberg e. V.&lt;/small&gt;&lt;/font&gt;&lt;/p&gt;
DTSTART:20111019T193000
DTEND:20111019T000000
LOCATION:Schloss Zinneberg Â· Zinneberg 3 Â· 85625 Glonn
ORGANIZER:Crescenzio Daniela
END:VEVENT
END:VCALENDAR