BEGIN:VCALENDAR
VERSION:2.0
PRODID:-//Stadtgeschichte München//DE
CALSCALE:GREGORIAN
BEGIN:VEVENT
UID:14535@stadtgeschichte-muenchen.de
SUMMARY:Tag der offenen Tür im Palais Lerchenfeld
DESCRIPTION:&lt;p&gt;Führungen durch das Palais Lerchenfeld, Treffpunkt im Foyer&lt;/p&gt; &lt;p&gt;9.45, 11.45 und 13.45 Uhr&lt;/p&gt; &lt;p&gt;&amp;nbsp;&lt;/p&gt; 
DTSTART:20171202T093000
DTEND:20171202T160000
LOCATION:Palais Lerchenfeld, Damenstiftstraße
ORGANIZER:Städtische Friedhöfe München
END:VEVENT
END:VCALENDAR