BEGIN:VCALENDAR
VERSION:2.0
PRODID:-//Stadtgeschichte München//DE
CALSCALE:GREGORIAN
BEGIN:VEVENT
UID:14543@stadtgeschichte-muenchen.de
SUMMARY:Das große Filmwochenende zum Jubiläum „40 Jahre Haidhausen-Museum“
DESCRIPTION:&lt;p&gt;Haidhauser Filmraritäten aus den 60er, 70er und frühen 80er Jahren.&lt;/p&gt; &lt;p&gt;Mit kurzen Einführungen von Hermann Wilhelm&lt;/p&gt; &lt;p&gt;Eine Reminiszenz an eine inzwischen verschwundene Welt&lt;/p&gt; 
DTSTART:20170203T180000
DTEND:20170203T220000
LOCATION:KiM-Kino, Einsteinstr. 42
ORGANIZER:Haidhausen Museum
END:VEVENT
END:VCALENDAR