BEGIN:VCALENDAR
VERSION:2.0
PRODID:-//Stadtgeschichte München//DE
CALSCALE:GREGORIAN
BEGIN:VEVENT
UID:14545@stadtgeschichte-muenchen.de
SUMMARY:Liesl Karlstadt * Leben und Leiden einer verkannten Volksschauspielerin
DESCRIPTION:&lt;p&gt;Liesl Karlstadt, die Partnerin des Volkssängers und Humoristen Karl Valentin wurde am 12. Dezember 1892, also vor 125 Jahren, als Elisabeth Wellano in Schwabing geboren. Neben ihren unvergesslichen Auftritten als Kapellmeister in der &lt;em&gt;„Orchesterprobe“&lt;/em&gt; schlüpfte sie in viele unterschiedliche Rollen.&amp;nbsp;&lt;/p&gt; &lt;p&gt;Wir beschäftigen uns mit dem Beginn von Liesl Karlstadts Bühnenkarriere, dem Kennenlernen ihres Partners Karl Valentin und den damit verbundenen Aufstieg als Volkssängerin. Es geht um das Verhältnis der beiden Bühnen- und Filmstars. Beleuchtet werden ihre Auftritte in den Kammerspielen, wo sie in mehreren Theaterstücken auch als Ersatz für Therese Giehse spielte.&lt;/p&gt; &lt;p&gt;Es geht aber auch um ihren Selbstmordversuch, mit dem sie sich in der Isar das Leben nehmen wollte und die folgenden schweren Jahre. Und wir besprechen die zweite Karriere der Liesl Karlstadt als Volksschauspielerin, als &lt;em&gt;„Mutter Brandl“&lt;/em&gt; und als &lt;em&gt;„Fernsehwerbungs-Ikone“&lt;/em&gt;.&amp;nbsp;&lt;/p&gt; &lt;p&gt;&amp;nbsp;&lt;/p&gt; 
DTSTART:20180323T100000
DTEND:20180323T120000
LOCATION:VHS Haar * Münchner Straße 3 * Haar
ORGANIZER:Münchner Zeitensprünge
END:VEVENT
END:VCALENDAR