BEGIN:VCALENDAR
VERSION:2.0
PRODID:-//Stadtgeschichte München//DE
CALSCALE:GREGORIAN
BEGIN:VEVENT
UID:14553@stadtgeschichte-muenchen.de
SUMMARY:Reif für die (Isar-) Inseln ?
DESCRIPTION:
DTSTART:20180623T110000
DTEND:20180623T133000
LOCATION:Lukaskirche * Vor Mariannenplatz 4
ORGANIZER:Münchner Zeitensprünge
END:VEVENT
END:VCALENDAR