BEGIN:VCALENDAR
VERSION:2.0
PRODID:-//Stadtgeschichte München//DE
CALSCALE:GREGORIAN
BEGIN:VEVENT
UID:14694@stadtgeschichte-muenchen.de
SUMMARY:Das Kreuzviertel
DESCRIPTION:&lt;p&gt;Im Kreuzviertel befanden sich einst ausgedehnte Klosterbezirke, etwa der Augustiner, Jesuiten, Karmeliter und Theatiner, sowie die Frauenkirche mit zahlreiche Kollegiatshäusern. Vom 14. bis zum 16. Jahrhundert war der für die Münchner Wirtschaft gewichtige Salzmarkt auf dem Promenadeplatz angesiedelt. Später wurde das Viertel mit den prächtigen Barockpalais zum Adelsviertel und im 19. Jahrhundert zum Münchner Bankenzentrum. Ein Rundgang zwischen Kaufinger-, Neuhauser- und Theatinerstraße geht der wechselvollen Geschichte dieses Viertels nach.&lt;/p&gt; 
DTSTART:20180427T163000
DTEND:20180427T180000
LOCATION:Treffpunkt: Jagdmuseum, Neuhauser Str. 2
ORGANIZER:MVHS München Mitte   
END:VEVENT
END:VCALENDAR