BEGIN:VCALENDAR
VERSION:2.0
PRODID:-//Stadtgeschichte München//DE
CALSCALE:GREGORIAN
BEGIN:VEVENT
UID:14706@stadtgeschichte-muenchen.de
SUMMARY:Historische Gebäude, Plätze und berühmte Menschen
DESCRIPTION:Kennen Sie den Aufenthaltsort von Lenin in Schwabing, das Wohnhaus von Bertold Brecht oder das Geburtshaus von Franz Josef Strauß? Auf den Schutthügeln des Krieges kämpften Sportler aus aller Welt um Medaillen und im Museenviertel spannt sich der zeitliche Bogen über mehrere Jahrhunderte. Bei dieser Radexkursion (ca. 15 km) kommen Sie zu Plätzen und Gebäuden, die Geschichte schrieben. Die Radtour findet bei jedem Wetter statt. Bitte bringen Sie Ihr eigenes, verkehrssicheres Fahrrad mit. Es besteht auch die Möglichkeit, Pedelecs für € 21.- zu mieten: In diesem Fall ist die sichere Beherrschung des Fahrrads Voraussetzung, eine Anmeldung bis zum 27.4.2018 unter Telefon (089) 4 80 06-66 43 erforderlich sowie das Erscheinen am Veranstaltungstag am Treffpunkt bereits um 13.00 Uhr (!). Bitte Ausweis mitbringen.
DTSTART:20180120T140000
DTEND:20180120T170000
LOCATION:Treffpunkt: Prof.-Huber-Platz
ORGANIZER:MVHS München Mitte   
END:VEVENT
END:VCALENDAR