BEGIN:VCALENDAR
VERSION:2.0
PRODID:-//Stadtgeschichte München//DE
CALSCALE:GREGORIAN
BEGIN:VEVENT
UID:14707@stadtgeschichte-muenchen.de
SUMMARY:Sag mir wie du wohnst ... Adel verpflichtet
DESCRIPTION:&lt;p&gt;Durchstreifen Sie das älteste &quot;Nobelviertel&quot; Münchens mit einer Vielzahl von architektonischen Kostbarkeiten aus vergangenen Zeiten. Wer hier im 18. Jahrhundert wohnte, stand mit dem Herrscherhaus in enger Verbindung. Das Hotel Bayerischer Hof wurde 1841 eröffnet - auf Wunsch von König Ludwig I., der in der Nähe seiner Residenz eine komfortable Herberge für seine Gäste suchte. Erfahren Sie mehr über das Leben in den einstigen Palästen und besuchen Sie das glanzvollste Stadtpalais Münchens.&lt;/p&gt; 
DTSTART:20180601T160000
DTEND:20180601T180000
LOCATION:Treffpunkt: Lodenfrey (Haupteingang); Maffeistr. 7
ORGANIZER:MVHS München Mitte   
END:VEVENT
END:VCALENDAR