BEGIN:VCALENDAR
VERSION:2.0
PRODID:-//Stadtgeschichte München//DE
CALSCALE:GREGORIAN
BEGIN:VEVENT
UID:14710@stadtgeschichte-muenchen.de
SUMMARY:Hinter den Kulissen der Hauptfeuerwache
DESCRIPTION:&lt;p&gt;Die Hauptfeuerwache wurde am 11. Juli 1904, genau zum 25-jährigen Bestehen der Berufsfeuerwehr Münchens, bezogen. Sie ersetzte das damals veraltete und zu kleine &quot;Zentralfeuerhaus&quot;. Heute ist die Feuerwache eine auf hohem technischen Niveau ausgestattete Service-Station, die rund um die Uhr in Bereitschaft sein muss. Die Führung zeigt die Einsatzmöglichkeiten der Feuerwehr auf und gibt Einblick in den Tagesablauf der Wachmannschaft.&lt;/p&gt; 
DTSTART:20180614T140000
DTEND:20180614T153000
LOCATION:Hauptfeuerwache München, An der Hauptfeuerwache 8
ORGANIZER:MVHS München Mitte   
END:VEVENT
END:VCALENDAR