BEGIN:VCALENDAR
VERSION:2.0
PRODID:-//Stadtgeschichte München//DE
CALSCALE:GREGORIAN
BEGIN:VEVENT
UID:14712@stadtgeschichte-muenchen.de
SUMMARY:München - Stadt der Frauen
DESCRIPTION:&lt;p&gt;Der Weg zur Gleichberechtigung der Frau war lang und steinig. In der Innenstadt lässt sich das anschaulich nachverfolgen. Der Spaziergang umfasst die Zeit von etwa 1700 bis 1920 und führt von Klöstern und Mädchenschulen über Palais und Wohnorte kreativer Frauen zu den Stätten der Frauen- und Friedensbewegung. Dabei werden auch Frauen gewürdigt, denen es nicht gelungen ist, die gesellschaftlichen Zwänge abzuschütteln, sondern die versuchten, aus ihrem Schicksal das Beste zu machen.&lt;/p&gt; 
DTSTART:20180623T110000
DTEND:20180623T130000
LOCATION:Treffpunkt: Promenadeplatz, Statue von Orlando di Lasso
ORGANIZER:MVHS München Mitte   
END:VEVENT
END:VCALENDAR